BEGIN:VCALENDAR
VERSION:2.0
PRODID:SchoolNow
CALSCALE:GREGORIAN
BEGIN:VEVENT
UID:017630fe-9239-11f0-85bc-0a58a9feac02
DTSTAMP:20250915T133638Z
SUMMARY:CDD Board Meeting- Jun. 2026
LOCATION:The Copperstone Clubhouse\, Located at 8145 115th Avenue East\, Pa
 rrish\, FL 34219
URL;VALUE=URI:https://www.copperstonecdd.org/calendar/8624387/cdd-board-mee
 ting-jun-2026
DTSTART:20260602T223000Z
DTEND:20260602T233000Z
END:VEVENT
END:VCALENDAR
