BEGIN:VCALENDAR
VERSION:2.0
PRODID:SchoolNow
CALSCALE:GREGORIAN
BEGIN:VEVENT
UID:1a4c1b66-9239-11f0-9eaa-02dcb7a45abd
DTSTAMP:20250915T133720Z
SUMMARY:CDD Board Meeting- Sept. 2026
LOCATION:The Copperstone Clubhouse\, Located at 8145 115th Avenue East\, Pa
 rrish\, FL 34219
URL;VALUE=URI:https://www.copperstonecdd.org/calendar/8624390/cdd-board-mee
 ting-sept-2026
DTSTART:20260901T223000Z
DTEND:20260901T233000Z
END:VEVENT
END:VCALENDAR
